BEGIN:VCALENDAR
VERSION:2.0
PRODID:Events Booking
BEGIN:VEVENT
UID:69ed0c954b933
SUMMARY:Sunset Sail on Zürisee 
DESCRIPTION:Sunset Sail from Enge on J70
  
DTSTART:20221004T170000Z
DTEND:20221004T193000Z
DTSTAMP:20220821T193601Z
ORGANIZER;CN=ZISC Events:MAILTO:info@zisc.club
END:VEVENT
END:VCALENDAR