BEGIN:VCALENDAR
VERSION:2.0
PRODID:Events Booking
BEGIN:VEVENT
UID:69ececedca3c6
SUMMARY:RYA Sea Survival Course
DESCRIPTION:Sea Survival Course in Kloten
DTSTART:20221120T090000Z
DTEND:20221120T180000Z
DTSTAMP:20221003T162919Z
ORGANIZER;CN=ZISC Events:MAILTO:info@zisc.club
END:VEVENT
END:VCALENDAR