BEGIN:VCALENDAR
VERSION:2.0
PRODID:Events Booking
BEGIN:VEVENT
UID:69ececedcbf16
SUMMARY:RYA Sea Survival Course
DESCRIPTION:Sea Survival Course in Kloten
DTSTART:20230212T090000Z
DTEND:20230212T180000Z
DTSTAMP:20221003T162919Z
ORGANIZER;CN=ZISC Events:MAILTO:info@zisc.club
END:VEVENT
END:VCALENDAR