BEGIN:VCALENDAR
VERSION:2.0
PRODID:Events Booking
BEGIN:VEVENT
UID:69ed0b4bca4a8
SUMMARY:Weekly Club Sail
DESCRIPTION:Weekly Club Sail on Zürisee
DTSTART:20230122T143000Z
DTEND:20230122T173000Z
DTSTAMP:20221121T211055Z
ORGANIZER;CN=ZISC Events:MAILTO:info@zisc.club
END:VEVENT
END:VCALENDAR