BEGIN:VCALENDAR
VERSION:2.0
PRODID:Events Booking
BEGIN:VEVENT
UID:69ed135e89ed7
SUMMARY:Weekly Social at Hafenkneipe
DESCRIPTION:Weekly Social event\, at Hafenkneipe
DTSTART:20221201T180000Z
DTEND:20221201T210000Z
DTSTAMP:20221129T192543Z
ORGANIZER;CN=ZISC Events:MAILTO:info@zisc.club
END:VEVENT
END:VCALENDAR