BEGIN:VCALENDAR
VERSION:2.0
PRODID:Events Booking
BEGIN:VEVENT
UID:69ed13b5c90c0
SUMMARY:Solent UK Race Series - October
DESCRIPTION:Helly Hansen Sunsail UK Race Series
DTSTART:20231014T090000Z
DTEND:20231015T170000Z
DTSTAMP:20221230T111154Z
ORGANIZER;CN=ZISC Events:MAILTO:info@zisc.club
END:VEVENT
END:VCALENDAR