BEGIN:VCALENDAR
VERSION:2.0
PRODID:Events Booking
BEGIN:VEVENT
UID:69ed12f8d27cf
SUMMARY:Shoggi Cup
DESCRIPTION:Act 1 - Zürich Langstrecke Cup (ZLC) Series
LOCATION:Switzerland
DTSTART:20230506T110000Z
DTEND:20230506T180000Z
DTSTAMP:20230113T135210Z
ORGANIZER;CN=ZISC Events:MAILTO:info@zisc.club
GEO:47.279096;8.597868
X-APPLE-STRUCTURED-LOCATION;VALUE=URI;X-ADDRESS=Switzerland;X-APPLE-RADIUS=
 72;X-TITLE=Lake Zurich:47.279096;8.597868
END:VEVENT
END:VCALENDAR