BEGIN:VCALENDAR
VERSION:2.0
PRODID:Events Booking
BEGIN:VEVENT
UID:69ed0b4b1809a
SUMMARY:Weekly Club Sail
DESCRIPTION:Afternoon sail on Zurichsee with maneuvers training potential!
  
LOCATION:47.340088\, 8.538859
DTSTART:20230318T130000Z
DTEND:20230318T160000Z
DTSTAMP:20230225T185803Z
ORGANIZER;CN=ZISC Events:MAILTO:info@zisc.club
GEO:47.340088;8.538859
X-APPLE-STRUCTURED-LOCATION;VALUE=URI;X-ADDRESS=47.340088\, 8.538859;X-APPL
 E-RADIUS=72;X-TITLE=Hafen Wollishofen:47.340088;8.538859
END:VEVENT
END:VCALENDAR