BEGIN:VCALENDAR
VERSION:2.0
PRODID:Events Booking
BEGIN:VEVENT
UID:69ed0b660ae2a
SUMMARY:Weekly Club Sail
DESCRIPTION:Weekly Club sail on Zürichsee
DTSTART:20230304T150000Z
DTEND:20230304T170000Z
DTSTAMP:20230226T130858Z
ORGANIZER;CN=ZISC Events:MAILTO:info@zisc.club
END:VEVENT
END:VCALENDAR