BEGIN:VCALENDAR
VERSION:2.0
PRODID:Events Booking
BEGIN:VEVENT
UID:69ed0b4c5788a
SUMMARY:Weekly Sail - on Urnersee
DESCRIPTION:Sunday afternoon on the Urnersee
DTSTART:20230611T120000Z
DTEND:20230611T160000Z
DTSTAMP:20230226T132227Z
ORGANIZER;CN=ZISC Events:MAILTO:info@zisc.club
END:VEVENT
END:VCALENDAR