BEGIN:VCALENDAR
VERSION:2.0
PRODID:Events Booking
BEGIN:VEVENT
UID:69ed0c4b39fe4
SUMMARY:Weekly Club Sail
DESCRIPTION: Weekly Club Sail on J70 Argos on Zürichsee
DTSTART:20230417T173000Z
DTEND:20230417T193000Z
DTSTAMP:20230226T201026Z
ORGANIZER;CN=ZISC Events:MAILTO:info@zisc.club
END:VEVENT
END:VCALENDAR