BEGIN:VCALENDAR
VERSION:2.0
PRODID:Events Booking
BEGIN:VEVENT
UID:69ed2058aaa9e
SUMMARY:Weekly Club Sail
DESCRIPTION:Weekly Club Sail on J70 Argos on Zürichsee
DTSTART:20230814T180000Z
DTEND:20230814T200000Z
DTSTAMP:20230226T202454Z
ORGANIZER;CN=ZISC Events:MAILTO:info@zisc.club
END:VEVENT
END:VCALENDAR