BEGIN:VCALENDAR
VERSION:2.0
PRODID:Events Booking
BEGIN:VEVENT
UID:69ed13bc2161a
SUMMARY:ZLC Distance Race (Distanzfahrt)
DESCRIPTION:ZLC Distance Race Zürich - Horgen - Zürich
DTSTART:20230916T100000Z
DTEND:20230916T200000Z
DTSTAMP:20230226T205616Z
ORGANIZER;CN=ZISC Events:MAILTO:info@zisc.club
END:VEVENT
END:VCALENDAR