BEGIN:VCALENDAR
VERSION:2.0
PRODID:Events Booking
BEGIN:VEVENT
UID:69ed0de32e675
SUMMARY:Weekly Club Sail (with Kids)
DESCRIPTION:Let's introduce the kids to the fascinating world of sailing!
LOCATION:47.340088\, 8.538859
DTSTART:20230619T150000Z
DTEND:20230619T170000Z
DTSTAMP:20230314T130639Z
ORGANIZER;CN=ZISC Events:MAILTO:info@zisc.club
GEO:47.340088;8.538859
X-APPLE-STRUCTURED-LOCATION;VALUE=URI;X-ADDRESS=47.340088\, 8.538859;X-APPL
 E-RADIUS=72;X-TITLE=Hafen Wollishofen:47.340088;8.538859
END:VEVENT
END:VCALENDAR