BEGIN:VCALENDAR
VERSION:2.0
PRODID:Events Booking
BEGIN:VEVENT
UID:69ed0c4618def
SUMMARY:Weekly Club Sail
DESCRIPTION:
 Afternoon sail on Zurichsee with maneuvers training potentia
 l! 
 
  
LOCATION:Pfäffikon\, Freienbach\, 8808 Schwyz\, Switzerland
DTSTART:20230424T170000Z
DTEND:20230424T200000Z
DTSTAMP:20230314T131246Z
ORGANIZER;CN=ZISC Events:MAILTO:info@zisc.club
GEO:47.206055;8.77343
X-APPLE-STRUCTURED-LOCATION;VALUE=URI;X-ADDRESS=Pfäffikon\, Freienbach\, 8
 808 Schwyz\, Switzerland;X-APPLE-RADIUS=72;X-TITLE=Hafen Pfäffikon SZ:47.
 206055;8.77343
END:VEVENT
END:VCALENDAR