BEGIN:VCALENDAR
VERSION:2.0
PRODID:Events Booking
BEGIN:VEVENT
UID:69ed139b9a30c
SUMMARY:Weekly Social at Hafenkneipe
DESCRIPTION:Weekly Social at Hafenkneipe
DTSTART:20230406T183000Z
DTEND:20230406T213000Z
DTSTAMP:20230330T151253Z
ORGANIZER;CN=ZISC Events:MAILTO:info@zisc.club
END:VEVENT
END:VCALENDAR