BEGIN:VCALENDAR
VERSION:2.0
PRODID:Events Booking
BEGIN:VEVENT
UID:69ed13449a006
SUMMARY:Racing: 7 o‘clock race
DESCRIPTION:The fun regatta takes place every Thursday evening in the Zuric
 h lake basin. Participation is open to everyone and free of charge but wou
 ld favour people having more interest in racing.
 !! PLEASE ARRIVE ON TIM
 E AS THE REGATTA STARTS AT 7PM SHARP AND WE NEED TO BE IN THE WATER BY THE
 N. !!
 We are going to take out the mOcean and divide the costs equally b
 etween the participants. Normally CHF 25-30.- per Person.
LOCATION:Utoquai 6\, 8008 Zürich
DTSTART:20230518T180000Z
DTEND:20230518T203000Z
DTSTAMP:20230425T161735Z
ORGANIZER;CN=ZISC Events:MAILTO:info@zisc.club
GEO:47;0
X-APPLE-STRUCTURED-LOCATION;VALUE=URI;X-ADDRESS=Utoquai 6\, 8008 Zürich;X-
 APPLE-RADIUS=72;X-TITLE=Hafen Bellevue:47;0
END:VEVENT
END:VCALENDAR