BEGIN:VCALENDAR
VERSION:2.0
PRODID:Events Booking
BEGIN:VEVENT
UID:69ed260c993ed
SUMMARY:Summer BBQ
DESCRIPTION:The ZISC Summer BBQ. Summer is (almost!) here
DTSTART:20230707T183000Z
DTEND:20230707T223000Z
DTSTAMP:20230517T091343Z
ORGANIZER;CN=ZISC Events:MAILTO:info@zisc.club
END:VEVENT
END:VCALENDAR