BEGIN:VCALENDAR
VERSION:2.0
PRODID:Events Booking
BEGIN:VEVENT
UID:69ed0aae2b785
SUMMARY:Skip work. Go sailing
DESCRIPTION:I know where I'd rather be.
 1. Friday afternoon in the office
 ?
 OR
 2. Friday afternoon on the lake.
LOCATION:Hafen Beiz\, Hafen Enge\, Zürich
DTSTART:20230609T140000Z
DTEND:20230609T160000Z
DTSTAMP:20230608T105823Z
ORGANIZER;CN=ZISC Events:MAILTO:info@zisc.club
GEO:47.361215;8.53569
X-APPLE-STRUCTURED-LOCATION;VALUE=URI;X-ADDRESS=Hafen Beiz\, Hafen Enge\, Z
 ürich;X-APPLE-RADIUS=72;X-TITLE=Hafen Beiz\, Enge:47.361215;8.53569
END:VEVENT
END:VCALENDAR