BEGIN:VCALENDAR
VERSION:2.0
PRODID:Events Booking
BEGIN:VEVENT
UID:69ed204af2013
SUMMARY:Nobody wants to work??
DESCRIPTION:Another Friday afternoon session on Sigla
LOCATION:Hafen Beiz\, Hafen Enge\, Zürich
DTSTART:20230609T120000Z
DTEND:20230609T133000Z
DTSTAMP:20230608T113642Z
ORGANIZER;CN=ZISC Events:MAILTO:info@zisc.club
GEO:47.361215;8.53569
X-APPLE-STRUCTURED-LOCATION;VALUE=URI;X-ADDRESS=Hafen Beiz\, Hafen Enge\, Z
 ürich;X-APPLE-RADIUS=72;X-TITLE=Hafen Beiz\, Enge:47.361215;8.53569
END:VEVENT
END:VCALENDAR