BEGIN:VCALENDAR
VERSION:2.0
PRODID:Events Booking
BEGIN:VEVENT
UID:69ed0de32e592
SUMMARY:Sunset Sailing - Zürich - Mythenquai
DESCRIPTION:
LOCATION:Zurich\, Zurich\, Switzerland
DTSTART:20230612T184500Z
DTEND:20230612T210000Z
DTSTAMP:20230612T115214Z
ORGANIZER;CN=ZISC Events:MAILTO:info@zisc.club
GEO:47.359643;8.534907
X-APPLE-STRUCTURED-LOCATION;VALUE=URI;X-ADDRESS=Zurich\, Zurich\, Switzerla
 nd;X-APPLE-RADIUS=72;X-TITLE=Zürich - Mythenquai:47.359643;8.534907
END:VEVENT
END:VCALENDAR