BEGIN:VCALENDAR
VERSION:2.0
PRODID:Events Booking
BEGIN:VEVENT
UID:69ed204b8bc20
SUMMARY:Summer Sundowner Sailing
DESCRIPTION:Sundowner Sailing on Lake Zurich with good people and good vibe
 s
LOCATION:Polytechniker Ruderclub (PRC)\, 67\, Mythenquai\, Enge\, Kreis 2\,
  Zurich\, District Zurich\, Zurich\, 8002\, Switzerland
DTSTART:20230809T190000Z
DTEND:20230809T210000Z
DTSTAMP:20230705T141400Z
ORGANIZER;CN=ZISC Events:MAILTO:info@zisc.club
GEO:47.35781;8.53584
X-APPLE-STRUCTURED-LOCATION;VALUE=URI;X-ADDRESS=Polytechniker Ruderclub (PR
 C)\, 67\, Mythenquai\, Enge\, Kreis 2\, Zurich\, District Zurich\, Zurich\
 , 8002\, Switzerland;X-APPLE-RADIUS=72;X-TITLE=Hafen Enge / Samigo:47.3578
 1;8.53584
END:VEVENT
END:VCALENDAR