BEGIN:VCALENDAR
VERSION:2.0
PRODID:Events Booking
BEGIN:VEVENT
UID:69ed0aada475d
SUMMARY:Sundown Sailing 
DESCRIPTION:Sundown Sailing on Thursday / 6-8:30pm
LOCATION:Utoquai\, Zurich\, 8008 Zurich\, Switzerland
DTSTART:20230713T180000Z
DTEND:20230713T203000Z
DTSTAMP:20230710T142233Z
ORGANIZER;CN=ZISC Events:MAILTO:info@zisc.club
GEO:47.363951;8.545518
X-APPLE-STRUCTURED-LOCATION;VALUE=URI;X-ADDRESS=Utoquai\, Zurich\, 8008 Zur
 ich\, Switzerland;X-APPLE-RADIUS=72;X-TITLE=Bellevue - Lago Rental Station
  :47.363951;8.545518
END:VEVENT
END:VCALENDAR