BEGIN:VCALENDAR
VERSION:2.0
PRODID:Events Booking
BEGIN:VEVENT
UID:69ed0e1ad31e3
SUMMARY:National Day Sailing in Brunnen (Lake Lucerne)
DESCRIPTION:Let's enjoy Swiss National Day by sailing close to the borders
  between cantons Uri\, Schwyz and Unterwalden. 
 Historic remarks to be
  done on the day. Source: Wikipedia \;) 
 Exact route to be decided acco
 rdingly to weather and wind condition - remember to take appropriate cloth
 es. 
 Meeting point: 
 VIERWALDSTÄTTERSEE\, BRUNNEN - FÖHNHAFEN
 Co
 st: CHF 25 
LOCATION:Föhnhafen\, Brunnen\, 6440 Schwyz\, Switzerland
DTSTART:20230801T120000Z
DTEND:20230801T180000Z
DTSTAMP:20230726T125739Z
ORGANIZER;CN=ZISC Events:MAILTO:info@zisc.club
GEO:46.994426;8.599592
X-APPLE-STRUCTURED-LOCATION;VALUE=URI;X-ADDRESS=Föhnhafen\, Brunnen\, 6440
  Schwyz\, Switzerland;X-APPLE-RADIUS=72;X-TITLE=Brunnen (Lake Lucerne):46.
 994426;8.599592
END:VEVENT
END:VCALENDAR