BEGIN:VCALENDAR
VERSION:2.0
PRODID:Events Booking
BEGIN:VEVENT
UID:69ed20580276f
SUMMARY:Sailing and Lunch in Lake Zürich
DESCRIPTION:This Year ZISCS supports: 
 Foundation Just for Smiles 
 ww
 w.justforsmiles.ch
  
LOCATION:Seestrasse 33\, Kilchberg\, 8802 Zurich\, Switzerland
DTSTART:20230826T120000Z
DTEND:20230826T180000Z
DTSTAMP:20230728T121655Z
ORGANIZER;CN=ZISC Events:MAILTO:info@zisc.club
GEO:47.322484;8.551198
X-APPLE-STRUCTURED-LOCATION;VALUE=URI;X-ADDRESS=Seestrasse 33\, Kilchberg\,
  8802 Zurich\, Switzerland;X-APPLE-RADIUS=72;X-TITLE=Mönchhof am See:47.3
 22484;8.551198
END:VEVENT
END:VCALENDAR