BEGIN:VCALENDAR
VERSION:2.0
PRODID:Events Booking
BEGIN:VEVENT
UID:69ed209a7f483
SUMMARY:Sunday Sailing Lake Zürich 
DESCRIPTION:Sunday Sailing in Lake Zürich 
LOCATION:Horgen
DTSTART:20230813T103000Z
DTEND:20230813T170000Z
DTSTAMP:20230811T092044Z
ORGANIZER;CN=ZISC Events:MAILTO:info@zisc.club
GEO:47.254598;8.618533
X-APPLE-STRUCTURED-LOCATION;VALUE=URI;X-ADDRESS=Horgen;X-APPLE-RADIUS=72;X-
 TITLE=Horgen:47.254598;8.618533
END:VEVENT
END:VCALENDAR