BEGIN:VCALENDAR
VERSION:2.0
PRODID:Events Booking
BEGIN:VEVENT
UID:69ed209c518ce
SUMMARY:Sailing Brunnen\, Lake Lucerne
DESCRIPTION:Sailing in Lake Lucerne - BRUNNEN 
LOCATION:Föhnhafen\, Brunnen\, 6440 Schwyz\, Switzerland
DTSTART:20230902T123000Z
DTEND:20230902T173000Z
DTSTAMP:20230829T181151Z
ORGANIZER;CN=ZISC Events:MAILTO:info@zisc.club
GEO:46.994426;8.599592
X-APPLE-STRUCTURED-LOCATION;VALUE=URI;X-ADDRESS=Föhnhafen\, Brunnen\, 6440
  Schwyz\, Switzerland;X-APPLE-RADIUS=72;X-TITLE=Brunnen (Lake Lucerne):46.
 994426;8.599592
END:VEVENT
END:VCALENDAR