BEGIN:VCALENDAR
VERSION:2.0
PRODID:Events Booking
BEGIN:VEVENT
UID:69ed1edca4a48
SUMMARY:Sailing in BODENSEE\, Arbon
DESCRIPTION:Sail in Bodensee 
LOCATION:Gioja\, Adolph-Saurer-Quai\, Arbon\, Bezirk Arbon\, Thurgau\, 9320
 \, Switzerland
DTSTART:20230909T120000Z
DTEND:20230909T170000Z
DTSTAMP:20230830T193052Z
ORGANIZER;CN=ZISC Events:MAILTO:info@zisc.club
GEO:47.512621;9.437857
X-APPLE-STRUCTURED-LOCATION;VALUE=URI;X-ADDRESS=Gioja\, Adolph-Saurer-Quai\
 , Arbon\, Bezirk Arbon\, Thurgau\, 9320\, Switzerland;X-APPLE-RADIUS=72;X-
 TITLE=Bodensee\, Arbon Hafen :47.512621;9.437857
END:VEVENT
END:VCALENDAR