BEGIN:VCALENDAR
VERSION:2.0
PRODID:Events Booking
BEGIN:VEVENT
UID:69ecec521f355
SUMMARY:Diesel Engine Course
DESCRIPTION:Brief descriptionIn the basic course you will learn how a boat 
 diesel engine works and how to operate and maintain it. The basic courses 
 are held with a maximum of ten people.
 Course time: from 09.15 - 12.30 a
 nd 14.00 - 17.15. Course materials will be handed out.
 Costs will be bet
 ween CHF 200 and 260 depending on how many participants will attend the co
 urse. 
 THE FIRST COURSE WILL BE HELD IN GERMAN ONLY (SORRY FOR ALL THE 
 ENGLISH SPEAKERS OUT THERE….)
  
DTSTART:20230910T090000Z
DTEND:20230910T173000Z
DTSTAMP:20230831T072200Z
ORGANIZER;CN=ZISC Events:MAILTO:info@zisc.club
END:VEVENT
END:VCALENDAR