BEGIN:VCALENDAR
VERSION:2.0
PRODID:Events Booking
BEGIN:VEVENT
UID:69ed270fcfb25
SUMMARY:(Not) the end of the season party 
DESCRIPTION:We are having a party - again! We’ll be celebrating the secon
 d full season of ZISC at GZ Wollishofen. Featuring ZISC’s very own DJ An
 dras on the decks.   
LOCATION:Bachstrasse 7\, Zurich\, 8038 Zurich\, Switzerland
DTSTART:20231130T190000Z
DTEND:20231201T010000Z
DTSTAMP:20231030T174812Z
ORGANIZER;CN=ZISC Events:MAILTO:info@zisc.club
GEO:47.344733;8.535623
X-APPLE-STRUCTURED-LOCATION;VALUE=URI;X-ADDRESS=Bachstrasse 7\, Zurich\, 80
 38 Zurich\, Switzerland;X-APPLE-RADIUS=72;X-TITLE=GZ Wollishofen :47.34473
 3;8.535623
END:VEVENT
END:VCALENDAR