BEGIN:VCALENDAR
VERSION:2.0
PRODID:Events Booking
BEGIN:VEVENT
UID:69ed1bd6951e8
SUMMARY:ZISC Winter Series
DESCRIPTION:We'll take the J70 out for a winter sail. Wrap up warm!
LOCATION:Mythenquai\, Enge\, Kreis 2\, Zurich\, District Zurich\, Zurich\, 
 8002\, Switzerland
DTSTART:20231209T100000Z
DTEND:20231209T120000Z
DTSTAMP:20231122T113813Z
ORGANIZER;CN=ZISC Events:MAILTO:info@zisc.club
GEO:47.357839;8.536114
X-APPLE-STRUCTURED-LOCATION;VALUE=URI;X-ADDRESS=Mythenquai\, Enge\, Kreis 2
 \, Zurich\, District Zurich\, Zurich\, 8002\, Switzerland;X-APPLE-RADIUS=7
 2;X-TITLE=Argos J70 (Pontoon 1\, Enge):47.357839;8.536114
END:VEVENT
END:VCALENDAR