BEGIN:VCALENDAR
VERSION:2.0
PRODID:Events Booking
BEGIN:VEVENT
UID:69ed1d6754e90
SUMMARY:ZISC Winter Series
DESCRIPTION:Dears!! Time for the first sailing session of the year! More ch
 ance for good wind and a great winter scenery from the water\, for sure. M
 eeting on the wooden pontoon where Argo is docked (I.e: Enge)&nbsp\;I ll b
 ring a hot tea. See you on the water :)&nbsp\;
 Dario
 Call me for info:
  0792600644
LOCATION:Mythenquai\, Enge\, Kreis 2\, Zurich\, District Zurich\, Zurich\, 
 8002\, Switzerland
DTSTART:20240106T100000Z
DTEND:20240106T120000Z
DTSTAMP:20231122T114503Z
ORGANIZER;CN=ZISC Events:MAILTO:info@zisc.club
GEO:47.357839;8.536114
X-APPLE-STRUCTURED-LOCATION;VALUE=URI;X-ADDRESS=Mythenquai\, Enge\, Kreis 2
 \, Zurich\, District Zurich\, Zurich\, 8002\, Switzerland;X-APPLE-RADIUS=7
 2;X-TITLE=Argos J70 (Pontoon 1\, Enge):47.357839;8.536114
END:VEVENT
END:VCALENDAR