BEGIN:VCALENDAR
VERSION:2.0
PRODID:Events Booking
BEGIN:VEVENT
UID:69ed26222f534
SUMMARY:Full Moon Sailing
DESCRIPTION:Full Moon Sailing on Zürisee.&nbsp\;
LOCATION:Hafen Mythenquai
DTSTART:20240422T183000Z
DTEND:20240422T210000Z
DTSTAMP:20231122T121919Z
ORGANIZER;CN=ZISC Events:MAILTO:info@zisc.club
GEO:47.357907;8.536745
X-APPLE-STRUCTURED-LOCATION;VALUE=URI;X-ADDRESS=Hafen Mythenquai;X-APPLE-RA
 DIUS=72;X-TITLE=Mythenquai\, jetty by the rowing clubs:47.357907;8.536745
END:VEVENT
END:VCALENDAR