BEGIN:VCALENDAR
VERSION:2.0
PRODID:Events Booking
BEGIN:VEVENT
UID:69ed11a1c5a49
SUMMARY:SSL Promotion League - Act 1
DESCRIPTION:Swiss Sailing - Promotion League in Ascona.&nbsp\;
LOCATION:6612 Ticino\, Switzerland
DTSTART:20240427T090000Z
DTEND:20240428T170000Z
DTSTAMP:20231122T122650Z
ORGANIZER;CN=ZISC Events:MAILTO:info@zisc.club
GEO:46.155422;8.770787
X-APPLE-STRUCTURED-LOCATION;VALUE=URI;X-ADDRESS=6612 Ticino\, Switzerland;X
 -APPLE-RADIUS=72;X-TITLE=Ascona:46.155422;8.770787
END:VEVENT
END:VCALENDAR