BEGIN:VCALENDAR
VERSION:2.0
PRODID:Events Booking
BEGIN:VEVENT
UID:69ed11dfcade9
SUMMARY:SSL Promotion League - Act 2
DESCRIPTION:Swiss Sailing - Promotion League in Sempach.&nbsp\;
LOCATION:6204 Lucerne\, Switzerland
DTSTART:20240525T090000Z
DTEND:20240526T170000Z
DTSTAMP:20231122T122935Z
ORGANIZER;CN=ZISC Events:MAILTO:info@zisc.club
GEO:47.135374;8.192026
X-APPLE-STRUCTURED-LOCATION;VALUE=URI;X-ADDRESS=6204 Lucerne\, Switzerland;
 X-APPLE-RADIUS=72;X-TITLE=Sempach:47.135374;8.192026
END:VEVENT
END:VCALENDAR