BEGIN:VCALENDAR
VERSION:2.0
PRODID:Events Booking
BEGIN:VEVENT
UID:69ed11ef3d9aa
SUMMARY:SSL Promotion League - Act 3
DESCRIPTION:Swiss Sailing - Promotion League in Zürich. Come along and sup
 port the team.
LOCATION:Switzerland
DTSTART:20240913T090000Z
DTEND:20240915T170000Z
DTSTAMP:20231122T123144Z
ORGANIZER;CN=ZISC Events:MAILTO:info@zisc.club
GEO:47.279096;8.597868
X-APPLE-STRUCTURED-LOCATION;VALUE=URI;X-ADDRESS=Switzerland;X-APPLE-RADIUS=
 72;X-TITLE=Lake Zurich:47.279096;8.597868
END:VEVENT
END:VCALENDAR