BEGIN:VCALENDAR
VERSION:2.0
PRODID:Events Booking
BEGIN:VEVENT
UID:69ed265fc6968
SUMMARY:ZISC is getting festive
DESCRIPTION:Glühwein at Münsterhof
DTSTART:20241205T190000Z
DTEND:20241205T213000Z
DTSTAMP:20231122T133614Z
ORGANIZER;CN=ZISC Events:MAILTO:info@zisc.club
END:VEVENT
END:VCALENDAR