BEGIN:VCALENDAR
VERSION:2.0
PRODID:Events Booking
BEGIN:VEVENT
UID:69ed1c0dbca56
SUMMARY:ZISC Winter Series 
DESCRIPTION:Hello All\,&nbsp\;
 Let's meet for ZISC Winter Sailing in Lake
  Zurich.&nbsp\;
 Route will be decided on the day accordingly to weather 
 and wind condition.&nbsp\;
 Cost: CHF 20 / person&nbsp\;
 Please bring p
 ersonal life jacket if you haev (boat is equipped but they might be bulcky
 ).&nbsp\;
 Thanks&nbsp\;
 Michele&nbsp\;
 &nbsp\;
 &nbsp\;
 &nbsp\;
LOCATION:Zurich\, Zurich\, Switzerland
DTSTART:20240203T100000Z
DTEND:20240203T120000Z
DTSTAMP:20240119T123355Z
ORGANIZER;CN=ZISC Events:MAILTO:info@zisc.club
GEO:47.359643;8.534907
X-APPLE-STRUCTURED-LOCATION;VALUE=URI;X-ADDRESS=Zurich\, Zurich\, Switzerla
 nd;X-APPLE-RADIUS=72;X-TITLE=Zürich - Mythenquai:47.359643;8.534907
END:VEVENT
END:VCALENDAR