BEGIN:VCALENDAR
VERSION:2.0
PRODID:Events Booking
BEGIN:VEVENT
UID:69ecec70a32b6
SUMMARY:RYA First Aid Course
DESCRIPTION:ZISC exclusive one day first aid course
LOCATION:Switzerland
DTSTART:20240504T090000Z
DTEND:20240504T180000Z
DTSTAMP:20240127T100638Z
ORGANIZER;CN=ZISC Events:MAILTO:info@zisc.club
GEO:47.279096;8.597868
X-APPLE-STRUCTURED-LOCATION;VALUE=URI;X-ADDRESS=Switzerland;X-APPLE-RADIUS=
 72;X-TITLE=Lake Zurich:47.279096;8.597868
END:VEVENT
END:VCALENDAR