BEGIN:VCALENDAR
VERSION:2.0
PRODID:Events Booking
BEGIN:VEVENT
UID:69ed280c1b868
SUMMARY:Windy Lake Sailing or Racing on Lake Zurich
DESCRIPTION:Early spring sailing session on lake Zurich with a mOcean from 
 Wollishofen starting at 16:00
LOCATION:Zurich\, 8038 Zurich\, Switzerland
DTSTART:20240316T160000Z
DTEND:20240316T183000Z
DTSTAMP:20240313T151629Z
ORGANIZER;CN=ZISC Events:MAILTO:info@zisc.club
GEO:47.340028;8.53864
X-APPLE-STRUCTURED-LOCATION;VALUE=URI;X-ADDRESS=Zurich\, 8038 Zurich\, Swit
 zerland;X-APPLE-RADIUS=72;X-TITLE=Wollishofen Marina:47.340028;8.53864
END:VEVENT
END:VCALENDAR