BEGIN:VCALENDAR
VERSION:2.0
PRODID:Events Booking
BEGIN:VEVENT
UID:69ed30852a6b9
SUMMARY:ZISC Juniors like to sail (sailing with kids)
DESCRIPTION:Following the succesfull event of last year\, we're trying to g
 et again kids to sail.&nbsp\;
 For this event we (me and Marco) have book
 ed the 2x Wollishofen boats (A and B) in June and we are happy to offer in
  total 6 spots.
LOCATION:47.340088\, 8.538859
DTSTART:20240609T140000Z
DTEND:20240609T180000Z
DTSTAMP:20240526T190950Z
ORGANIZER;CN=ZISC Events:MAILTO:info@zisc.club
GEO:47.340088;8.538859
X-APPLE-STRUCTURED-LOCATION;VALUE=URI;X-ADDRESS=47.340088\, 8.538859;X-APPL
 E-RADIUS=72;X-TITLE=Hafen Wollishofen:47.340088;8.538859
END:VEVENT
END:VCALENDAR