BEGIN:VCALENDAR
VERSION:2.0
PRODID:Events Booking
BEGIN:VEVENT
UID:69ed11df685c0
SUMMARY:The night regatta 
DESCRIPTION:The Tag/Nacht regatta is a classic. Third year in a row for ZIS
 C and always one step away from the podium. But that is not what matters: 
 what matters is the sunset and the lights of the lake\, the breeze that fi
 lls the gennaker in the pitch dark\, the sunrise watching Zurich wake up..
 ..
 Anyway it s a regatta\, we need to be ready for a night of little or 
 no sleep\, expect a fresh night and be armed with patience: the wind does 
 what the wind wants.&nbsp\;We are taking the J70 and meeting in Samigo to 
 arm the boat. Load the minimum necessary for the night and then ready for 
 the start at 20.00. Arrival is not to be expected before 9am\, but can be 
 also early in the afternoon of Saturday.&nbsp\;call me for more info.&nbsp
 \;Fair winds\, Dario&nbsp\;
DTSTART:20240614T180000Z
DTEND:20240615T130000Z
DTSTAMP:20240529T064841Z
ORGANIZER;CN=ZISC Events:MAILTO:info@zisc.club
END:VEVENT
END:VCALENDAR