BEGIN:VCALENDAR
VERSION:2.0
PRODID:Events Booking
BEGIN:VEVENT
UID:69ed11bc0fe9f
SUMMARY:Long distance regatta
DESCRIPTION:4th Act of the Long distance regattas on Zürichsee.&nbsp\;Star
 ting line in front of Horgen around 11 and then down\, up and down the lak
 e again trying to find whatever wind is out there. I think and hope we ll 
 not moor back in Horgen later then 15.&nbsp\;
 I think it would end up co
 sting around 40chf&nbsp\;
LOCATION:Horgen
DTSTART:20240622T093000Z
DTEND:20240622T170000Z
DTSTAMP:20240610T224947Z
ORGANIZER;CN=ZISC Events:MAILTO:info@zisc.club
GEO:47.254598;8.618533
X-APPLE-STRUCTURED-LOCATION;VALUE=URI;X-ADDRESS=Horgen;X-APPLE-RADIUS=72;X-
 TITLE=Horgen:47.254598;8.618533
END:VEVENT
END:VCALENDAR