BEGIN:VCALENDAR
VERSION:2.0
PRODID:Events Booking
BEGIN:VEVENT
UID:69ed11a1494c2
SUMMARY:Zimmerberg Trophy 
DESCRIPTION:The Zimmerberg Trophy is the 4th act of the long distance regat
 ta series in Zurichsee. The start is around 11 in front of Horgen. Sail do
 wn\, up and down the lake again trying to catch whatever wind we can find.
 &nbsp\;&nbsp\;I think\, and hope\, we will be moored back in Horgen by 16.
 00. We ll meet at 9:30 to rig the boat and go for a little training on the
  water before the gun.&nbsp\;
 The notice of race does not talk about pos
 t-regatta drinks… but that says nothing about us! The costs\, if we are 
 4\, are max 50chf per person. The transfer from Zurich we will arrange clo
 ser to date.&nbsp\;
 Fair winds!&nbsp\;
LOCATION:Horgen
DTSTART:20240622T093000Z
DTEND:20240622T170000Z
DTSTAMP:20240611T060340Z
ORGANIZER;CN=ZISC Events:MAILTO:info@zisc.club
GEO:47.254598;8.618533
X-APPLE-STRUCTURED-LOCATION;VALUE=URI;X-ADDRESS=Horgen;X-APPLE-RADIUS=72;X-
 TITLE=Horgen:47.254598;8.618533
END:VEVENT
END:VCALENDAR