BEGIN:VCALENDAR
VERSION:2.0
PRODID:Events Booking
BEGIN:VEVENT
UID:69ed2fde5bc54
SUMMARY:ZISC Juniors (sailing with kids)
DESCRIPTION:Following the succesfull event this year\, we're trying to get 
 kids to sail again.&nbsp\;
 For this event I have booked the the Wollisho
 fen boat (B).&nbsp\;
 A spot = kid + adult.
 Because the life-vests on t
 he boat are too big for the kids is recommended to bring your own.&nbsp\;
 
 Depending on the weather and wind conditions we'll try to have as much f
 un as possible with sailing\, swimming and (maybe) try to use the harness 
 for an increased dose of excitement.
 Costs will be split among participa
 nts.
LOCATION:Forellenweg\, Zurich\, 8038 Zurich\, Switzerland
DTSTART:20240714T140000Z
DTSTAMP:20240615T101504Z
ORGANIZER;CN=ZISC Events:MAILTO:info@zisc.club
GEO:47.338496;8.540428
X-APPLE-STRUCTURED-LOCATION;VALUE=URI;X-ADDRESS=Forellenweg\, Zurich\, 8038
  Zurich\, Switzerland;X-APPLE-RADIUS=72;X-TITLE=Sailbox Wollishofen B:47.3
 38496;8.540428
END:VEVENT
END:VCALENDAR