BEGIN:VCALENDAR
VERSION:2.0
PRODID:Events Booking
BEGIN:VEVENT
UID:69ed2d94dcda3
SUMMARY:Easy Like Saturday Morning
DESCRIPTION:Saturday morning sailing before the rain...
LOCATION:Mythenquai\, Enge\, Kreis 2\, Zurich\, District Zurich\, Zurich\, 
 8002\, Switzerland
DTSTART:20240706T090000Z
DTEND:20240706T110000Z
DTSTAMP:20240705T105316Z
ORGANIZER;CN=ZISC Events:MAILTO:info@zisc.club
GEO:47.357839;8.536114
X-APPLE-STRUCTURED-LOCATION;VALUE=URI;X-ADDRESS=Mythenquai\, Enge\, Kreis 2
 \, Zurich\, District Zurich\, Zurich\, 8002\, Switzerland;X-APPLE-RADIUS=7
 2;X-TITLE=Argos J70 (Pontoon 1\, Enge):47.357839;8.536114
END:VEVENT
END:VCALENDAR