BEGIN:VCALENDAR
VERSION:2.0
PRODID:Events Booking
BEGIN:VEVENT
UID:69ed3cbeed36b
SUMMARY:Sailing in Rapperswil (to Ufnau Island)
DESCRIPTION:Sailing in Lake Zürich from Rapperswil to Ufnau Island.&nbsp\;
LOCATION:Hafen Untersee Rapperswil\, Seestrasse\, Rapperswil\, Rapperswil-J
 ona\, Wahlkreis See-Gaster\, St. Gallen\, 8640\, Switzerland
DTSTART:20240714T103000Z
DTEND:20240714T153000Z
DTSTAMP:20240711T073726Z
ORGANIZER;CN=ZISC Events:MAILTO:info@zisc.club
GEO:47.224855;8.813662
X-APPLE-STRUCTURED-LOCATION;VALUE=URI;X-ADDRESS=Hafen Untersee Rapperswil\,
  Seestrasse\, Rapperswil\, Rapperswil-Jona\, Wahlkreis See-Gaster\, St. Ga
 llen\, 8640\, Switzerland;X-APPLE-RADIUS=72;X-TITLE=Rapperswil Hafen Mole 
 :47.224855;8.813662
END:VEVENT
END:VCALENDAR