BEGIN:VCALENDAR
VERSION:2.0
PRODID:Events Booking
BEGIN:VEVENT
UID:69ed1db8dbf14
SUMMARY:ZISC Saturday sailing (or swimming)
DESCRIPTION:It looks like Saturday afternoon the gods of wind shall turn th
 eir faces towards us.. so\, there might be some wind and if so =&gt\; then
  let us be sailing!&nbsp\;?
 We'll take the sailbox from Enge A and try t
 o sail for some good hours..&nbsp\;
 Worry not\, for if wind is not to sh
 ow up\, the high temperature will for sure\, so the alternative will be sw
 imming! Be prepared for that and bring a swimsuit!
 Therefore sail or swi
 m HERE WE COME!
 We'll split the costs based on the number of participant
 s.
 &nbsp\;
 &nbsp\;
LOCATION:Polytechniker Ruderclub (PRC)\, 67\, Mythenquai\, Enge\, Kreis 2\,
  Zurich\, District Zurich\, Zurich\, 8002\, Switzerland
DTSTART:20240720T153000Z
DTEND:20240720T183000Z
DTSTAMP:20240716T112300Z
ORGANIZER;CN=ZISC Events:MAILTO:info@zisc.club
GEO:47.35781;8.53584
X-APPLE-STRUCTURED-LOCATION;VALUE=URI;X-ADDRESS=Polytechniker Ruderclub (PR
 C)\, 67\, Mythenquai\, Enge\, Kreis 2\, Zurich\, District Zurich\, Zurich\
 , 8002\, Switzerland;X-APPLE-RADIUS=72;X-TITLE=Hafen Enge / Samigo:47.3578
 1;8.53584
END:VEVENT
END:VCALENDAR