BEGIN:VCALENDAR
VERSION:2.0
PRODID:Events Booking
BEGIN:VEVENT
UID:69ed2bb555e4b
SUMMARY:TGIT
DESCRIPTION:Chill and grill (yourselfs in 31°C) or sail with us on a mOcea
 n starting from Enge
LOCATION:Hafen Beiz\, Hafen Enge\, Zürich
DTSTART:20240718T180000Z
DTEND:20240718T203000Z
DTSTAMP:20240717T203541Z
ORGANIZER;CN=ZISC Events:MAILTO:info@zisc.club
GEO:47.361215;8.53569
X-APPLE-STRUCTURED-LOCATION;VALUE=URI;X-ADDRESS=Hafen Beiz\, Hafen Enge\, Z
 ürich;X-APPLE-RADIUS=72;X-TITLE=Hafen Beiz\, Enge:47.361215;8.53569
END:VEVENT
END:VCALENDAR