BEGIN:VCALENDAR
VERSION:2.0
PRODID:Events Booking
BEGIN:VEVENT
UID:69ed1c5b137ef
SUMMARY:TGIF Casual Sailing
DESCRIPTION:TGIF Casual Sailing
 We'll take out the mOcean from Wollishofe
 n and enjoy some nice moments on the&nbsp\;lake with good people and good 
 vibes.
 Bring your swimsuit and drinks and snacks if wanted.
 Looking fo
 rward to see you!
 Angelika
DTSTART:20240726T160000Z
DTEND:20240726T180000Z
DTSTAMP:20240723T190920Z
ORGANIZER;CN=ZISC Events:MAILTO:info@zisc.club
END:VEVENT
END:VCALENDAR